BEGIN:VCALENDAR
VERSION:2.0
PRODID:-//wp-events-plugin.com//6.4.7.3//EN
BEGIN:VEVENT
UID:4098@icebreakersmanchester.org.uk
DTSTART:20180714T130000Z
DTEND:20180714T150000Z
DTSTAMP:20180711T192133Z
URL:https://icebreakersmanchester.org.uk/events/guided-history-walk/
SUMMARY:Guided History Walk
DESCRIPTION:
CATEGORIES:Social
LOCATION:The LGBT Foundation\, 5 Richmond Street\, Manchester\, M1 3HF\, Un
 ited Kingdom
GEO:53.4779567;-2.235794800000008
X-APPLE-STRUCTURED-LOCATION;VALUE=URI;X-ADDRESS=5 Richmond Street\, Manches
 ter\, M1 3HF\, United Kingdom;X-APPLE-RADIUS=100;X-TITLE=The LGBT Foundati
 on:geo:53.4779567,-2.235794800000008
END:VEVENT
END:VCALENDAR