BEGIN:VCALENDAR
VERSION:2.0
PRODID:-//wp-events-plugin.com//6.4.7.3//EN
BEGIN:VEVENT
UID:4097@icebreakersmanchester.org.uk
DTSTART:20180224T180000Z
DTEND:20180224T200000Z
DTSTAMP:20180221T181813Z
URL:https://icebreakersmanchester.org.uk/events/icebreakers-february-film-
 night/
SUMMARY:Icebreakers' February Film Night
DESCRIPTION:
CATEGORIES:Film Night
LOCATION:The LGBT Foundation\, 5 Richmond Street\, Manchester\, M1 3HF\, Un
 ited Kingdom
GEO:53.4779567;-2.235794800000008
X-APPLE-STRUCTURED-LOCATION;VALUE=URI;X-ADDRESS=5 Richmond Street\, Manches
 ter\, M1 3HF\, United Kingdom;X-APPLE-RADIUS=100;X-TITLE=The LGBT Foundati
 on:geo:53.4779567,-2.235794800000008
END:VEVENT
END:VCALENDAR