BEGIN:VCALENDAR
VERSION:2.0
PRODID:-//wp-events-plugin.com//6.4.7.3//EN
BEGIN:VEVENT
UID:4196@icebreakersmanchester.org.uk
DTSTART:20191127T200000Z
DTEND:20191127T213000Z
DTSTAMP:20190116T165417Z
URL:https://icebreakersmanchester.org.uk/events/icebreakers-weekly-meeting
 -2-2019-11-27/
SUMMARY:Icebreakers' Weekly Meeting
DESCRIPTION:Pop by for a biscuit and a brew\, make new friends and have a l
 augh. \n\nFor more details about our weekly meetings please click here
CATEGORIES:Weekly Meeting
LOCATION:The LGBT Foundation\, 5 Richmond Street\, Manchester\, M1 3HF\, Un
 ited Kingdom
GEO:53.4779567;-2.235794800000008
X-APPLE-STRUCTURED-LOCATION;VALUE=URI;X-ADDRESS=5 Richmond Street\, Manches
 ter\, M1 3HF\, United Kingdom;X-APPLE-RADIUS=100;X-TITLE=The LGBT Foundati
 on:geo:53.4779567,-2.235794800000008
END:VEVENT
END:VCALENDAR