BEGIN:VCALENDAR
VERSION:2.0
PRODID:-//wp-events-plugin.com//6.4.7.3//EN
BEGIN:VEVENT
UID:4099@icebreakersmanchester.org.uk
DTSTART:20180721T144500Z
DTEND:20180721T170000Z
DTSTAMP:20180719T175442Z
URL:https://icebreakersmanchester.org.uk/events/manchester-fringe-festival
 -out-by-stewart-campbell/
SUMMARY:Manchester Fringe Festival - "Out" by Stewart Campbell
DESCRIPTION:
CATEGORIES:Social
LOCATION:53TWO\, Lawrence House\, 8 Albion Street\, MANCHESTER\, M1 5LN\, U
 nited Kingdom
GEO:53.47402599999999;-2.2483833000000004
X-APPLE-STRUCTURED-LOCATION;VALUE=URI;X-ADDRESS=Lawrence House\, 8 Albion S
 treet\, MANCHESTER\, M1 5LN\, United Kingdom;X-APPLE-RADIUS=100;X-TITLE=53
 TWO:geo:53.47402599999999,-2.2483833000000004
END:VEVENT
END:VCALENDAR