BEGIN:VCALENDAR
VERSION:2.0
PRODID:-//wp-events-plugin.com//6.4.7.3//EN
BEGIN:VEVENT
UID:4100@icebreakersmanchester.org.uk
DTSTART:20180825T113000Z
DTEND:20180825T160000Z
DTSTAMP:20180816T192512Z
URL:https://icebreakersmanchester.org.uk/events/pride-2018-walk-with-icebr
 eakers/
SUMMARY:Pride 2018 - Walk with Icebreakers!
DESCRIPTION:
CATEGORIES:Social
LOCATION:Liverpool Road - Pride March Meeting Point\, Liverpool Rd\, Manche
 ster\, United Kingdom
GEO:53.4765666;-2.2549642000000176
X-APPLE-STRUCTURED-LOCATION;VALUE=URI;X-ADDRESS=Liverpool Rd\, Manchester\,
  United Kingdom;X-APPLE-RADIUS=100;X-TITLE=Liverpool Road - Pride March Me
 eting Point:geo:53.4765666,-2.2549642000000176
END:VEVENT
END:VCALENDAR